BEGIN:VCALENDAR
VERSION:2.0
PRODID:-//Wine Country Pride - ECPv6.15.20//NONSGML v1.0//EN
CALSCALE:GREGORIAN
METHOD:PUBLISH
X-WR-CALNAME:Wine Country Pride
X-ORIGINAL-URL:https://winecountrypride.com
X-WR-CALDESC:Events for Wine Country Pride
REFRESH-INTERVAL;VALUE=DURATION:PT1H
X-Robots-Tag:noindex
X-PUBLISHED-TTL:PT1H
BEGIN:VTIMEZONE
TZID:America/Los_Angeles
BEGIN:DAYLIGHT
TZOFFSETFROM:-0800
TZOFFSETTO:-0700
TZNAME:PDT
DTSTART:20240310T100000
END:DAYLIGHT
BEGIN:STANDARD
TZOFFSETFROM:-0700
TZOFFSETTO:-0800
TZNAME:PST
DTSTART:20241103T090000
END:STANDARD
BEGIN:DAYLIGHT
TZOFFSETFROM:-0800
TZOFFSETTO:-0700
TZNAME:PDT
DTSTART:20250309T100000
END:DAYLIGHT
BEGIN:STANDARD
TZOFFSETFROM:-0700
TZOFFSETTO:-0800
TZNAME:PST
DTSTART:20251102T090000
END:STANDARD
BEGIN:DAYLIGHT
TZOFFSETFROM:-0800
TZOFFSETTO:-0700
TZNAME:PDT
DTSTART:20260308T100000
END:DAYLIGHT
BEGIN:STANDARD
TZOFFSETFROM:-0700
TZOFFSETTO:-0800
TZNAME:PST
DTSTART:20261101T090000
END:STANDARD
END:VTIMEZONE
BEGIN:VTIMEZONE
TZID:UTC
BEGIN:STANDARD
TZOFFSETFROM:+0000
TZOFFSETTO:+0000
TZNAME:UTC
DTSTART:20230101T000000
END:STANDARD
END:VTIMEZONE
BEGIN:VEVENT
DTSTART;TZID=America/Los_Angeles:20251227T170000
DTEND;TZID=America/Los_Angeles:20251227T200000
DTSTAMP:20260424T080223
CREATED:20251212T193639Z
LAST-MODIFIED:20251212T193856Z
UID:508-1766854800-1766865600@winecountrypride.com
SUMMARY:Wine Country Pride Winter Ball 2025
DESCRIPTION:Tickets are available here!\n\n\n\n\nPut on your sparkle and join us for a night that celebrates the magic of community\, generosity\, and Pride! We’re gathering to toast the incredible growth of Wine Country Pride — and the people who made it possible (that’s you!). \nExpect a night packed with:\n💃 A dazzling drag show & open dance floor.\n🍽️ A delicious dinner (with accommodations for food allergies).\n💸 Digital tipping (and good old-fashioned cash for singles!).\n🍷 Beer\, wine\, and non-alcoholic beverages available for purchase. \nYour $99 ticket includes a welcome splash of bubbles and a catered buffet dinner that’ll have you coming back for seconds. \nWant to make it a party? Grab a table for 8 for $1\,150 — complete with two drinks per guest to keep the celebration flowing all night long. \nCome ready to raise a glass\, raise some funds\, and raise the roof — all in support of the joy\, inclusion\, and love that make Wine Country Pride shine. 🌈
URL:https://winecountrypride.com/event/wine-country-pride-winter-ball-2025/
LOCATION:Abbey Road Farm\, 10280 Northeast Oak Springs Farm Road\, Carlton\, Oregon\, 97111\, United States
CATEGORIES:WCP Event
END:VEVENT
BEGIN:VEVENT
DTSTART;TZID=America/Los_Angeles:20250803T110000
DTEND;TZID=America/Los_Angeles:20250803T180000
DTSTAMP:20260424T080223
CREATED:20250619T173524Z
LAST-MODIFIED:20250619T193828Z
UID:455-1754218800-1754244000@winecountrypride.com
SUMMARY:Wine Country Pride Street Fair - Pride On Third
DESCRIPTION:This year\, Wine Country Pride is hosting our annual Street Fair\, “Pride on Third” on Sunday\, August 3rd\, right on Third Street in McMinnville! We are working with local businesses to bring our Block Party back to the street!
URL:https://winecountrypride.com/event/wine-country-pride-street-fair-pride-on-third/
LOCATION:McMinnville’s Downtown Third Street\, 3rd Street\, MCMINNVILLE\, OR\, 97128\, United States
CATEGORIES:WCP Event
ATTACH;FMTTYPE=image/jpeg:https://winecountrypride.com/wp-content/uploads/2025/06/2206_26_Wine_Pride_1047-scaled.jpg
END:VEVENT
BEGIN:VEVENT
DTSTART;TZID=UTC:20250614T113000
DTEND;TZID=UTC:20250614T150000
DTSTAMP:20260424T080223
CREATED:20250528T045205Z
LAST-MODIFIED:20250613T030047Z
UID:347-1749900600-1749913200@winecountrypride.com
SUMMARY:Newberg Pride
DESCRIPTION:Celebrate Pride in Downtown Newberg! \nProduced by PFLAG Newberg\nChehalem Cultural Center\n11:30am – 3pm
URL:https://winecountrypride.com/event/newberg-pride/
CATEGORIES:Pride Month Event
ATTACH;FMTTYPE=image/jpeg:https://winecountrypride.com/wp-content/uploads/2025/05/2206_26_Wine_Pride_1039-scaled.jpg
END:VEVENT
BEGIN:VEVENT
DTSTART;TZID=UTC:20250612T180000
DTEND;TZID=UTC:20250612T200000
DTSTAMP:20260424T080223
CREATED:20250528T044623Z
LAST-MODIFIED:20250613T030134Z
UID:344-1749751200-1749758400@winecountrypride.com
SUMMARY:Wine Country Run Club x Wine Country Pride
DESCRIPTION:We’re teaming up for our second GAY RUN! Meet up at Stumptown Taps for a run followed by beverages and social time. \n6pm: Meet up\n6:15: Run\n7pm: Social
URL:https://winecountrypride.com/event/wine-country-run-club-x-wine-country-pride/
CATEGORIES:Like Minded Values
ATTACH;FMTTYPE=image/webp:https://winecountrypride.com/wp-content/uploads/2024/04/Gay-Pride-Celebrations.webp
END:VEVENT
BEGIN:VEVENT
DTSTART;TZID=UTC:20250603T000000
DTEND;TZID=UTC:20250603T000000
DTSTAMP:20260424T080223
CREATED:20250528T043007Z
LAST-MODIFIED:20250528T043510Z
UID:340-1748908800-1748908800@winecountrypride.com
SUMMARY:Pride Trivia & Kickoff
DESCRIPTION:Kickoff Pride month at Mac Market at 4pm. We’ll have family friendly activities and our friends at Honeypie (inside Mac Market) have beverages and foods off all kinds!  \nStick around for Mac Market trivia\, co-hosted by our very own Jacob Sembler\, board member for WCP.
URL:https://winecountrypride.com/event/pride-trivia-kickoff/
CATEGORIES:WCP Event
ATTACH;FMTTYPE=image/webp:https://winecountrypride.com/wp-content/uploads/2024/04/Pride-Parade-.webp
END:VEVENT
BEGIN:VEVENT
DTSTART;TZID=UTC:20240425T000000
DTEND;TZID=UTC:20240425T000000
DTSTAMP:20260424T080223
CREATED:20240412T061159Z
LAST-MODIFIED:20240412T093014Z
UID:271-1714003200-1714003200@winecountrypride.com
SUMMARY:Kittens; we are here for it
DESCRIPTION:This is a pride event for kittens.
URL:https://winecountrypride.com/event/kittens-we-are-here-for-it/
ATTACH;FMTTYPE=image/webp:https://winecountrypride.com/wp-content/uploads/2024/04/DALL·E-2024-04-11-19.30.00-A-heartwarming-scene-of-three-kittens-dressed-in-rainbow-colors-each-wearing-a-tiny-pride-flag-bandana.-They-are-playfully-interacting-in-a-park-duri.webp
END:VEVENT
BEGIN:VEVENT
DTSTART;TZID=UTC:20240419T000000
DTEND;TZID=UTC:20240419T000000
DTSTAMP:20260424T080223
CREATED:20240412T063920Z
LAST-MODIFIED:20240412T093431Z
UID:283-1713484800-1713484800@winecountrypride.com
SUMMARY:Wine and Street Fair
DESCRIPTION:Pride street fair set in picturesque wine country. The scene captures a festive atmosphere with people enjoying the event among vineyards. Take a look!
URL:https://winecountrypride.com/event/wine-and-street-fair/
ATTACH;FMTTYPE=image/webp:https://winecountrypride.com/wp-content/uploads/2024/04/DALL·E-2024-04-11-19.33.16-A-vibrant-scene-of-a-Pride-street-fair-in-a-wine-country-setting.-The-fair-is-bustling-with-activity-featuring-diverse-groups-of-people-celebrating-L.webp
END:VEVENT
BEGIN:VEVENT
DTSTART;TZID=UTC:20240414T000000
DTEND;TZID=UTC:20240414T000000
DTSTAMP:20260424T080223
CREATED:20240412T053938Z
LAST-MODIFIED:20240412T093214Z
UID:262-1713052800-1713052800@winecountrypride.com
SUMMARY:Pick the Best Brony
DESCRIPTION:Hey friends. Friendship is Magic with this event! Show off your Brony Tats.
URL:https://winecountrypride.com/event/pick-the-best-brony/
ATTACH;FMTTYPE=image/webp:https://winecountrypride.com/wp-content/uploads/2024/04/DALL·E-2024-04-11-19.31.29-A-lively-group-of-three-male-characters-of-diverse-ethnicities-each-with-vibrant-colorful-tattoos-of-whimsical-cartoon-style-ponies-on-their-arms.-.webp
END:VEVENT
END:VCALENDAR